BEGIN:VCALENDAR
VERSION:2.0
BEGIN:VEVENT
CLASS:PUBLIC
CATEGORIES:MEETING
DTSTART;TZID=Pacific/Auckland:20150717T200000
DTEND;TZID=Pacific/Auckland:20150717T200000
SUMMARY:Phreaze at Brewers Bar
DESCRIPTION:Price: Gold Coin Donation\nAge Limit: 18+\n\nDetails: Dope night of New Zealand Hiphop! Gold Coin Donation at the door! Get there!
LOCATION:Brewers Bar - Mount Maunganui, Mount Maunganui, BOP, NZ
END:VEVENT

END:VCALENDAR
