BEGIN:VCALENDAR
VERSION:2.0
BEGIN:VEVENT
CLASS:PUBLIC
CATEGORIES:MEETING
DTSTART;TZID=America/New_York:20150725T200000
DTEND;TZID=America/New_York:20150725T200000
SUMMARY:Patrick Poladian at Carol's Comfort Cusine
DESCRIPTION:Price: $25,- \nClick here to buy tickets: https://www.facebook.com/pages/Carols-Comfort-Cuisine/278994618890904?sk=info&amp;tab=page_info\nAge Limit: All Ages\n\nDetails: Patrick Poladian Quartet is performing at Carol&#39;s Comfort Cuisine. for tickets and information call (610) 438-4037
LOCATION:Carol's Comfort Cusine - 612 Northampton Street, Easton, PA, 18042, US
END:VEVENT

END:VCALENDAR
