BEGIN:VCALENDAR
VERSION:2.0
BEGIN:VEVENT
CLASS:PUBLIC
CATEGORIES:MEETING
DTSTART;TZID=America/New_York:20150710T200000
DTEND;TZID=America/New_York:20150710T200000
SUMMARY:Patrick Poladian at Two Rivers Brewing Company
DESCRIPTION:Age Limit: All Ages\n\nDetails: an evening of Jazz with the Patrick Poladian Trio
LOCATION:Two Rivers Brewing Company - 542 Northampton Street, Easton, PA, 18042, US
END:VEVENT

END:VCALENDAR
