BEGIN:VCALENDAR
VERSION:2.0
BEGIN:VEVENT
CLASS:PUBLIC
CATEGORIES:MEETING
DTSTART;TZID=America/New_York:20150719T193000
DTEND;TZID=America/New_York:20150719T193000
SUMMARY:Shryne at The Fatt Squirrel
DESCRIPTION:Age Limit: 21+\n\nDetails: 8PM Show\n\nFacebook Event: https://www.facebook.com/events/1481936265432764/
LOCATION:The Fatt Squirrel - 150 Chestnut Street, Providence, RI, 02903, US
END:VEVENT

END:VCALENDAR
