BEGIN:VCALENDAR
VERSION:2.0
BEGIN:VEVENT
CLASS:PUBLIC
CATEGORIES:MEETING
DTSTART;TZID=America/New_York:20150620T150000
DTEND;TZID=America/New_York:20150620T150000
SUMMARY:Shryne at RI PrideFest 2015
DESCRIPTION:Age Limit: All Ages\n\nDetails: Event starts at Noon. Shryne is playing after 3PM.
LOCATION:RI PrideFest 2015 - South Water Street, Providence, RI, 02903, US
END:VEVENT

END:VCALENDAR
