BEGIN:VCALENDAR
VERSION:2.0
BEGIN:VEVENT
CLASS:PUBLIC
CATEGORIES:MEETING
DTSTART;TZID=America/New_York:20150909T190000
DTEND;TZID=America/New_York:20150909T190000
SUMMARY:El Extreme "Honking and Shouting" Little Otis at art-a-site!
DESCRIPTION:Price: Free\nClick here to buy tickets: http://www.luischaluisan.com/\nAge Limit: All Ages\n\nDetails: Balboa Nights The Documentary Filmed at  Centro Comunal, Barrio Trastalleres P.R.
LOCATION:art-a-site! - 116 S Main St, Bowling Green, OH, 43402, US
END:VEVENT

END:VCALENDAR
