BEGIN:VCALENDAR
VERSION:2.0
BEGIN:VEVENT
CLASS:PUBLIC
CATEGORIES:MEETING
DTSTART;TZID=Europe/Athens:20150523T200000
DTEND;TZID=Europe/Athens:20150523T200000
SUMMARY:Alex Papadiamantis at Melina culture centre
DESCRIPTION:Age Limit: All Ages
LOCATION:Melina culture centre - Filis, Athina, GR
END:VEVENT

END:VCALENDAR
