BEGIN:VCALENDAR
VERSION:2.0
BEGIN:VEVENT
CLASS:PUBLIC
CATEGORIES:MEETING
DTSTART;TZID=America/New_York:20150512T120000
DTEND;TZID=America/New_York:20150512T120000
SUMMARY:Henning Stumm at Park Avenue Lunch Concert Series
DESCRIPTION:Price: free\nAge Limit: All Ages\n\nDetails: Soul Revival, with Henning Stumm on drumsl will be performing at this free lunch time concert out doors! 
LOCATION:Park Avenue Lunch Concert Series - 345 Park Avenue, New York, NY, 10154, US
END:VEVENT

END:VCALENDAR
