BEGIN:VCALENDAR
VERSION:2.0
BEGIN:VEVENT
CLASS:PUBLIC
CATEGORIES:MEETING
DTSTART;TZID=America/New_York:20150510T190000
DTEND;TZID=America/New_York:20150510T190000
SUMMARY:Country Joe and the Outlaw Band at Otto's Shrunken Head
DESCRIPTION:Price: free\nAge Limit: All Ages\n\nDetails: Country Joe will be performing with Henning Stumm on drums at Otto&#39;s Shrunken Head for the Wind-down-Sunday music series.
LOCATION:Otto's Shrunken Head - 538 East 14th Street, New York, NY, 10009, US
END:VEVENT

END:VCALENDAR
