BEGIN:VCALENDAR
VERSION:2.0
BEGIN:VEVENT
CLASS:PUBLIC
CATEGORIES:MEETING
DTSTART;TZID=America/New_York:20150627T200000
DTEND;TZID=America/New_York:20150627T200000
SUMMARY:Eliana Marcia at Danyell's Kitchen
DESCRIPTION:Price: $25  or $50 Prix Fix\nClick here to buy tickets: http://sweetspotvenue.com/\nAge Limit: All Ages\n\nDetails: Eliana Marcia and her trio will be performing music from Brazil! At the Sweet Spot series at Danyell’s Kitchen
LOCATION:Danyell's Kitchen - 225 Main Street, Northport, NY, 11768, US
END:VEVENT

END:VCALENDAR
