BEGIN:VCALENDAR
VERSION:2.0
BEGIN:VEVENT
CLASS:PUBLIC
CATEGORIES:MEETING
DTSTART;TZID=America/New_York:20150511T200000
DTEND;TZID=America/New_York:20150511T200000
SUMMARY:The Parodi Kings at Thomas Street Tavern
DESCRIPTION:Price: FREE!\nAge Limit: All Ages
LOCATION:Thomas Street Tavern - 1218 Thomas Ave, Charlotte, NC, 28205, US
END:VEVENT

END:VCALENDAR
