BEGIN:VCALENDAR
VERSION:2.0
BEGIN:VEVENT
CLASS:PUBLIC
CATEGORIES:MEETING
DTSTART;TZID=America/Chicago:20090627T200000
DTEND;TZID=America/Chicago:20090627T200000
SUMMARY:Pushmi-Pullyu at Glass Nickel Pizza Company
DESCRIPTION:Age Limit: All Ages\n\nDetails: This show sucked.
LOCATION:Glass Nickel Pizza Company - 2916 Atwood Avenue, Madison, WI, 53704, US
END:VEVENT

END:VCALENDAR
