BEGIN:VCALENDAR
VERSION:2.0
BEGIN:VEVENT
CLASS:PUBLIC
CATEGORIES:MEETING
DTSTART;TZID=America/New_York:20150509T200000
DTEND;TZID=America/New_York:20150509T200000
SUMMARY:GinaMarie at Sprengels 
DESCRIPTION:Price: free \nAge Limit: 21+\n\nDetails: *The Retunz &amp; special guest JUICE* \n\nI am so excited to be back at Sprengels in Neptune with The Great Alvis &amp; his band The Retunz! \nLast time I performed there, it was a packed house of Grooving People! Come hang out with us, we&#39;re gonna have a great time! :) \n
LOCATION:Sprengels  - 2447 Hwy 33, Neptune Township, NJ, 07753, US
END:VEVENT

END:VCALENDAR
