BEGIN:VCALENDAR
VERSION:2.0
BEGIN:VEVENT
CLASS:PUBLIC
CATEGORIES:MEETING
DTSTART;TZID=America/New_York:20150501T193000
DTEND;TZID=America/New_York:20150501T193000
SUMMARY:Shenole Latimer at East Meadow Public Library
DESCRIPTION:Price: free\nAge Limit: All Ages\n\nDetails: An evening of Jazz with the Shenole Larimer Trio, feat. Henning Stumm on drums
LOCATION:East Meadow Public Library - 1886 Front Street, East Meadow, NY, 11554, US
END:VEVENT

END:VCALENDAR
