BEGIN:VCALENDAR
VERSION:2.0
BEGIN:VEVENT
CLASS:PUBLIC
CATEGORIES:MEETING
DTSTART;TZID=America/New_York:20150424T200000
DTEND;TZID=America/New_York:20150424T200000
SUMMARY:Vegas&Hollywood at OPN People's Community Center 
DESCRIPTION:Price: $5 in Advance $10 at the door \nClick here to buy tickets: https://www.facebook.com/megan.robinson.9041?pnref=lhc\nAge Limit: 18+\n\nDetails: Sponsored by Boss Lady Productions 
LOCATION:OPN People's Community Center  - 15453 Euclid Ave. East Cleveland, Ohio, Cleveland, OH, 44112, US
END:VEVENT

END:VCALENDAR
