BEGIN:VCALENDAR
VERSION:2.0
BEGIN:VEVENT
CLASS:PUBLIC
CATEGORIES:MEETING
DTSTART;TZID=America/Chicago:20100102T190000
DTEND;TZID=America/Chicago:20100102T190000
SUMMARY:Drone Baez at the Whistler
DESCRIPTION:Price: Free\nAge Limit: 21+\n\nDetails: Glad Cloud: Ambient Music Series\n\nGlad Cloud celebrates the rich landscape of Chicago musicians working with ambient music, be it acoustic, electric, or both. Created and curated by Ben Mjolsness (of the Chicago group MALE), Glad Cloud provides an opportunity for ambient artists to colour the air, walls, and liquids of the Whistler in a deliberately non-intrusive manner. Visitors enjoy their cocktails and companions while the music envelops the room around them; performing artists are able to work on new approaches to their music. 
LOCATION:the Whistler - 2421 N Milwaukee Ave, Chicago, IL, 60647, US
END:VEVENT

END:VCALENDAR
