BEGIN:VCALENDAR
VERSION:2.0
BEGIN:VEVENT
CLASS:PUBLIC
CATEGORIES:MEETING
DTSTART;TZID=America/Sao_Paulo:20150425T210000
DTEND;TZID=America/Sao_Paulo:20150425T210000
SUMMARY:VX Official at Cine & Rock
DESCRIPTION:Click here to buy tickets: https://www.facebook.com/events/374907436031001/\nAge Limit: All Ages\n\nDetails: DEVIDO AO GRANDE SUCESSO DO PRIMEIRO, GANHAMOS MAIS UM ESPAÇO PARA FAZERMOS O NOSSO ROCK, VEM QUE VEM, TEREMOS DJs E MAIS BANDAS TOCANDO.\n\nBandas Confirmadas:\n\nBanda Caus Moderado\nBanda Domestic Junkies\nBanda Mystical\nBanda Opala de Prata\nBanda Empty Garden.\n\nMais pra frente anunciaremos mais bandas.\n\nDjs tocando nos intervalo das bandas.\n\n______________________________________________________\nO Cinema &amp; Rock na Praça é um evento de ocupação cultural da galera do Rock da Praça do Pinheiro no bairro do Rio das Pedras no Rio de Janeiro, o intuito principal desta ação é de desmitificar que a galera do rock é suja, drogada e que não tem condições de produzir algo de relevância no seu meio comunitário, esse evento é uma ação concreta de que se organizando podemos fazer muito mais do que nos dizem sermos capazes de fazer\n\nLéu Oliveira &amp; Elvis Felipe\n\nLembre-se: jogue O SEU lixo no lixo. é de sua responsabilidade manter a nosso espaço de convivência limpo.\n\n\nContamos com a presença de todos!
LOCATION:Cine & Rock - 21 Rua José Carlos da Silva, Rio De Janeiro, RJ, 23573, BR
END:VEVENT

END:VCALENDAR
