BEGIN:VCALENDAR
VERSION:2.0
BEGIN:VEVENT
CLASS:PUBLIC
CATEGORIES:MEETING
DTSTART;TZID=America/New_York:20150328T190000
DTEND;TZID=America/New_York:20150328T190000
SUMMARY:Avi Wisnia at The Brown Room at Congress Hall (SS CapeMay Fest)
DESCRIPTION:Price: FREE\nClick here to buy tickets: http://www.sscapemay.com\nAge Limit: All Ages\n\nDetails: official Cape May Singer/Songwriter Festival showcase performance, free and open to the public
LOCATION:The Brown Room at Congress Hall (SS CapeMay Fest) - 251 Beach Ave, Cape May, NJ, 08204, US
END:VEVENT

END:VCALENDAR
