BEGIN:VCALENDAR
VERSION:2.0
BEGIN:VEVENT
CLASS:PUBLIC
CATEGORIES:MEETING
DTSTART;TZID=Australia/Sydney:20150530T210000
DTEND;TZID=Australia/Sydney:20150530T210000
SUMMARY:Kim Killspeed at Lazybones Lounge
DESCRIPTION:Price: $15\nAge Limit: 18+ or w/ adult\n\nDetails: Kim Killspeed 10pm\nThis will be Kim Killspeed&#39;s biggest show of the year. The Sydney indie band have been together for a year. This is very new, original, genre hopping music. They have been recording their debut EP &#39;Ultrasound&#39; and can now showcase it to the world. They will play the new EP plus loads more, trippy, ethereal and dancy tunes. With Kim Candy, Andy, Bruce, Steve, Kev\nhttp://www.kimkillspeed.com/shows/ \nhttps://www.facebook.com/kimkillspeed?fref=ts\nhttp://www.reverbnation.com/kimkillspeed\n\nThe Ultrasound EP will be on sale at the show, and features 5 songs - Neptune Revolver, Festival, Songbird, Nude to the Moon and 443. The EP is available from iTunes, Spotify and online streaming from 24 May onwards.\nThis is the show of the year for Kim Killspeed.\n\nPiperlain, 9pm. an acoustic, alternative pop/folk/rock act. They have a new single out &quot;Embrace&quot; and are getting loads of radio play at the moment. With Benjamin Knight, Rebecca Voorn-Knight, Frank Davey, Greg McGrath, Andy Sheehan\nhttps://www.facebook.com/Piperlain?fref=ts\nhttp://www.reverbnation.com/piperlain\n\nLion Calamity, 11pm Indie punk that loves big guitars, catchy choruses and lyrics that you can relate to,  will take us to midnight with their punk sounds. \nWith Ren-Kaiya - Guitar, vocals. Michael - Bass. Jonjay - Drums\nhttps://www.facebook.com/LionCalamity?fref=ts\nhttps://soundcloud.com/LionCalamity
LOCATION:Lazybones Lounge - 294 Marrickville Road, Marrickville, NSW, 2204, AU
END:VEVENT

END:VCALENDAR
