BEGIN:VCALENDAR
VERSION:2.0
BEGIN:VEVENT
CLASS:PUBLIC
CATEGORIES:MEETING
DTSTART;TZID=America/New_York:20150408T210000
DTEND;TZID=America/New_York:20150408T210000
SUMMARY:Shryne at AS220
DESCRIPTION:Price: $6\nAge Limit: All Ages\n\nDetails: Tickets are available at the door.
LOCATION:AS220 - 115 Empire Street, Providence, RI, 02903, US
END:VEVENT

END:VCALENDAR
