BEGIN:VCALENDAR
VERSION:2.0
BEGIN:VEVENT
CLASS:PUBLIC
CATEGORIES:MEETING
DTSTART;TZID=Europe/Brussels:20150319T190000
DTEND;TZID=Europe/Brussels:20150319T190000
SUMMARY:HIRAX at Cafe Elpee
DESCRIPTION:Price: €12\nAge Limit: 18+\n\nDetails: Zoals altijd in Elpee ;\nEEN KAARTJE IN VVK IS ALTIJD AAN TE RADEN. WE RESERVEREN NIET MEER ZONDER VVK.\n\nWIE TE VER WOONT KAN EEN MAILTJE STUREN NAAR info@muziekcafeelpee.be\n\nhttps://www.facebook.com/hiraxthrashmetal\n\n+\n\nDesecrator (Old School Thrash Metal - Australia)\nSite: http://desecrator.net/\nMusic: http://youtu.be/OS_xmtVCpcI\n\nPiraña (Old School Thrash Metal - Mexico)\nSite: https://www.facebook.com/piranhathrashmex\nMusic: http://youtu.be/iWfLFWcLQQQ\n\nPast the Fall (Thrash Metal - UK)\nSite: https://www.facebook.com/PastTheFallOfficial\nMusic: http://youtu.be/iMFNHVX6_Ms\n\n\n\nTickets : VVk 12 euro / Deur 13 euro\n\n
LOCATION:Cafe Elpee - Stationsstraat 56, Deinze, 9800, BE
END:VEVENT

END:VCALENDAR
