BEGIN:VCALENDAR
VERSION:2.0
BEGIN:VEVENT
CLASS:PUBLIC
CATEGORIES:MEETING
DTSTART;TZID=America/New_York:20150205T200000
DTEND;TZID=America/New_York:20150205T200000
SUMMARY:The Parodi Kings at The Double Door Inn
DESCRIPTION:Price: ?\nAge Limit: All Ages
LOCATION:The Double Door Inn - Charlotte, NC, US
END:VEVENT

END:VCALENDAR
