BEGIN:VCALENDAR
VERSION:2.0
BEGIN:VEVENT
CLASS:PUBLIC
CATEGORIES:MEETING
DTSTART;TZID=Pacific/Auckland:20150206T100000
DTEND;TZID=Pacific/Auckland:20150206T100000
SUMMARY:Phreaze at Waitangi Day @ Pukekohe
DESCRIPTION:Age Limit: All Ages\n\nDetails: Phreaze performing LIVE @ Pukekohe&#39;s 2015 Waitangi Day Celebrations! Free Entry!
LOCATION:Waitangi Day @ Pukekohe - Eco Light Stadium, Pukekohe, AKL, NZ
END:VEVENT

END:VCALENDAR
