BEGIN:VCALENDAR
VERSION:2.0
BEGIN:VEVENT
CLASS:PUBLIC
CATEGORIES:MEETING
DTSTART;TZID=Pacific/Auckland:20150221T100000
DTEND;TZID=Pacific/Auckland:20150221T100000
SUMMARY:Phreaze at Family Music Festival @ Welcome Bay
DESCRIPTION:Age Limit: All Ages\n\nDetails: Phreaze performing LIVE @ Tye Park Welcome Bay Family Music Festival! $5 Adults, $2 Children, $12 family pass (2 adults, 4 children). Free kids rides 10am-3pm!
LOCATION:Family Music Festival @ Welcome Bay - Tye Park, Tauranga, BOP, 3113, NZ
END:VEVENT

END:VCALENDAR
