BEGIN:VCALENDAR
VERSION:2.0
BEGIN:VEVENT
CLASS:PUBLIC
CATEGORIES:MEETING
DTSTART;TZID=America/New_York:20150213T200000
DTEND;TZID=America/New_York:20150213T200000
SUMMARY:The Parodi Kings at The Milestone
DESCRIPTION:Age Limit: 18+
LOCATION:The Milestone - 3400 Tuckaseegee Rd, Charlotte, NC, 28208, US
END:VEVENT

END:VCALENDAR
