BEGIN:VCALENDAR
VERSION:2.0
BEGIN:VEVENT
CLASS:PUBLIC
CATEGORIES:MEETING
DTSTART;TZID=America/New_York:20150214T200000
DTEND;TZID=America/New_York:20150214T200000
SUMMARY:Dallas Moore at 2015 Sol Records Hillbilly Valentines Dance
DESCRIPTION:Age Limit: 21+
LOCATION:2015 Sol Records Hillbilly Valentines Dance - (Harrison, OH VFW) 9160 Lawrenceburg Road, Harrison, OH, US
END:VEVENT

END:VCALENDAR
