BEGIN:VCALENDAR
VERSION:2.0
BEGIN:VEVENT
CLASS:PUBLIC
CATEGORIES:MEETING
DTSTART;TZID=America/New_York:20141223T200000
DTEND;TZID=America/New_York:20141223T200000
SUMMARY:The Parodi Kings at The Diamond 
DESCRIPTION:Price: FREE!\nAge Limit: All Ages\n\nDetails: Our Christmas present to you!
LOCATION:The Diamond  - Commonwealth Ave., Charlotte, NC, 28205, US
END:VEVENT

END:VCALENDAR
