BEGIN:VCALENDAR
VERSION:2.0
BEGIN:VEVENT
CLASS:PUBLIC
CATEGORIES:MEETING
DTSTART;TZID=Pacific/Auckland:20141219T210000
DTEND;TZID=Pacific/Auckland:20141219T210000
SUMMARY:Phreaze at Brewers Bar
DESCRIPTION:Price: Xmas Gift Wrapped Present\nClick here to buy tickets: https://www.facebook.com/events/796168617097158/\nAge Limit: 18+\n\nDetails: We&#39;ve been working hard this last year with music and video clips. Our song Guilty, we recorded and filmed with kids of all ages thru out the Bay of Plenty and to celebrate the release of this video clip we would like to throw an event so all our &quot;FAMZ &amp; FRIENDZ&quot; can party with us.\n\nENTRY\nWE WANT TO BE DIFFERENT WITH ENTRY.\nInstead of paying $5 or $10 for a ticket to enter, we want entry to be a gift wrapped Christmas present with a card that&#39;s got age and gender and we would donate to families in hardship during Christmas time. Families across the Bay of Plenty. Don&#39;t have to go all out just a nice gift that a kid would be thankful for.\n\nIf you or anyone you know, knows a family whose children maybe doing it hard during the Christmas break then Private Message us. DON&#39;T FORGET to include the gender/age of the children and also their address. NOTE that it is STRICTLY CONFIDENTIAL!\n\nThe URBAN D Santa will try drop off too all families.\nWe feel that this is the best way to get the presents to the families that would otherwise miss out.\n\nPERFORMANCES BY:\nURBAN DRAMA Pix Westpix West &amp; RAS1\nSwizl Jager T Slash DUB\nPhreaze House Of Gold\nARMS OF PLATINUM Psyko T\nMassikar Rhyzup\nAnd more TBA\n\nLEAVE YA BEEF ON THE BBQ AT HOME AND HAVE FUN!
LOCATION:Brewers Bar - Mount Maunganui, NZ
END:VEVENT

END:VCALENDAR
