BEGIN:VCALENDAR
VERSION:2.0
BEGIN:VEVENT
CLASS:PUBLIC
CATEGORIES:MEETING
DTSTART;TZID=America/Chicago:20141119T190000
DTEND;TZID=America/Chicago:20141119T190000
SUMMARY:The Tillers at The Basement
DESCRIPTION:Price: $7.00\nAge Limit: All Ages
LOCATION:The Basement - Nashville, TN, 37203, US
END:VEVENT

END:VCALENDAR
