BEGIN:VCALENDAR
VERSION:2.0
BEGIN:VEVENT
CLASS:PUBLIC
CATEGORIES:MEETING
DTSTART;TZID=America/Chicago:20261031T200000
DTEND;TZID=America/Chicago:20261031T200000
SUMMARY:Super Human Hoodlum at 13th Angel Studios
DESCRIPTION:Price: 1 Million Dollars\nAge Limit: 18+ or w/ adult
LOCATION:13th Angel Studios - 6969 Mockingbird lane, Desperation, AZ, US
END:VEVENT

END:VCALENDAR
