BEGIN:VCALENDAR
VERSION:2.0
BEGIN:VEVENT
CLASS:PUBLIC
CATEGORIES:MEETING
DTSTART;TZID=America/Edmonton:20141122T200000
DTEND;TZID=America/Edmonton:20141122T200000
SUMMARY:Rebuild/Repair at Vern's Tavern
DESCRIPTION:Price: $10\nAge Limit: 18+\n\nDetails: Normally not really into &quot;battle of the bands&quot; , but we made an exception in order to play with all these rad bands. Everybody wins!
LOCATION:Vern's Tavern - Calgary, CA
END:VEVENT

END:VCALENDAR
