BEGIN:VCALENDAR
VERSION:2.0
BEGIN:VEVENT
CLASS:PUBLIC
CATEGORIES:MEETING
DTSTART;TZID=America/New_York:20141029T213000
DTEND;TZID=America/New_York:20141029T213000
SUMMARY:Project Alice at AS220
DESCRIPTION:Age Limit: All Ages
LOCATION:AS220 - Providence, RI, US
END:VEVENT

END:VCALENDAR
