BEGIN:VCALENDAR
VERSION:2.0
BEGIN:VEVENT
CLASS:PUBLIC
CATEGORIES:MEETING
DTSTART;TZID=America/New_York:20141029T210000
DTEND;TZID=America/New_York:20141029T210000
SUMMARY:Shryne at AS220
DESCRIPTION:Price: $6\nClick here to buy tickets: http://www.as220.org/event/shryne-sgt-baker-and-the-clones-and-tba-2/?instance_id=24129\nAge Limit: All Ages\n\nDetails: Shryne returns from a year long hiatus with a new guitarist and new material.\n\nAlso featuring Sgt. Baker &amp; The Clones. Other bands TBA.\n\nIf you want to find out more, you&#39;ll have to show up!
LOCATION:AS220 - 115 Empire Street, Providence, RI, 02903, US
END:VEVENT

END:VCALENDAR
