BEGIN:VCALENDAR
VERSION:2.0
BEGIN:VEVENT
CLASS:PUBLIC
CATEGORIES:MEETING
DTSTART;TZID=America/Los_Angeles:20141024T190000
DTEND;TZID=America/Los_Angeles:20141024T190000
SUMMARY:Chris Klimecky at SoulFood Books and Cafe
DESCRIPTION:Price: Free\nClick here to buy tickets: http://www.active.com/donate/lasvegasNWS14/klimecky\nAge Limit: All Ages\n\nDetails: This is a benefit show and raffle for the Crohn&#39;s &amp; Colitis Foundation of America. Chris is running a 1/2 marathon in Vegas and raising money in support of his 9-year-old son with ulcerative colitis. The musicians are donating their time, talents, and CDs for the cause - please come show your support, have a great time, and take some great local music home with you as well! http://www.active.com/donate/lasvegasNWS14/klimecky
LOCATION:SoulFood Books and Cafe - 15748 Redmond Way, Redmond, WA, 98052, US
END:VEVENT

END:VCALENDAR
