BEGIN:VCALENDAR
VERSION:2.0
BEGIN:VEVENT
CLASS:PUBLIC
CATEGORIES:MEETING
DTSTART;TZID=America/Chicago:20141031T200000
DTEND;TZID=America/Chicago:20141031T200000
SUMMARY:Psychopathic Daze at Nite Cap
DESCRIPTION:Age Limit: 21+\n\nDetails: More details to come
LOCATION:Nite Cap - Chicago, Chicago, IL, US
END:VEVENT

END:VCALENDAR
