BEGIN:VCALENDAR
VERSION:2.0
BEGIN:VEVENT
CLASS:PUBLIC
CATEGORIES:MEETING
DTSTART;TZID=America/Edmonton:20141129T200000
DTEND;TZID=America/Edmonton:20141129T200000
SUMMARY:Puttin On The FoiL at Fionn MacCool's Red Deer
DESCRIPTION:Age Limit: 18+
LOCATION:Fionn MacCool's Red Deer - 1935 Gaetz Avenue, Red Deer, AB, T4R 1Z4, CA
END:VEVENT

END:VCALENDAR
