BEGIN:VCALENDAR
VERSION:2.0
BEGIN:VEVENT
CLASS:PUBLIC
CATEGORIES:MEETING
DTSTART;TZID=America/New_York:20141009T190000
DTEND;TZID=America/New_York:20141009T190000
SUMMARY:Terry Kitchen at Brookline Public Librabry 
DESCRIPTION:Price: free\nClick here to buy tickets: http://www.brooklinelibrary.org/\nAge Limit: All Ages\n\nDetails: Remembering The Tam! Local author and musician Terry Kitchen hosts an evening honoring Brookline&#39;s Tam O&#39;Shanter nightclub, featuring music by the Memphis Rockabilly Band and Jay Feinstein of Push Push. Kitchen will also perform and read from his new novel Next Big Thing, set in the 1980s Boston music scene.
LOCATION:Brookline Public Librabry  - 361 Washington St., Brookline, MA, 02445, US
END:VEVENT

END:VCALENDAR
