BEGIN:VCALENDAR
VERSION:2.0
BEGIN:VEVENT
CLASS:PUBLIC
CATEGORIES:MEETING
DTSTART;TZID=Europe/Copenhagen:20141106T170000
DTEND;TZID=Europe/Copenhagen:20141106T170000
SUMMARY:Huldre at Studenterhuset
DESCRIPTION:Age Limit: All Ages\n\nDetails: Aalborg metal festival. Official event here: https://www.facebook.com/events/227360597459989/
LOCATION:Studenterhuset - Aalborg, DK
END:VEVENT

END:VCALENDAR
