BEGIN:VCALENDAR
VERSION:2.0
BEGIN:VEVENT
CLASS:PUBLIC
CATEGORIES:MEETING
DTSTART;TZID=America/Indiana/Indianapolis:20140711T200000
DTEND;TZID=America/Indiana/Indianapolis:20140711T200000
SUMMARY:Psychopathic Daze at Beatniks Cafe
DESCRIPTION:Price: FREE\nAge Limit: 21+
LOCATION:Beatniks Cafe - 123 E 3rd St, Marion, IN, 46952, US
END:VEVENT

END:VCALENDAR
