BEGIN:VCALENDAR
VERSION:2.0
BEGIN:VEVENT
CLASS:PUBLIC
CATEGORIES:MEETING
DTSTART;TZID=America/New_York:20140712T130000
DTEND;TZID=America/New_York:20140712T130000
SUMMARY:The Uncle Devin Show® at Chevy Chase Library
DESCRIPTION:Price: Free\nClick here to buy tickets: http://dclibrary.org/node/43013\nAge Limit: All Ages\n\nDetails: We will be a part of the Summer Reading Program for the second year in a row.  Bring the family and come have some fun with The Uncle Devin Show!
LOCATION:Chevy Chase Library - 5625 Connecticut Ave., NW, Washington, DC, 20015, US
END:VEVENT

END:VCALENDAR
