BEGIN:VCALENDAR
VERSION:2.0
BEGIN:VEVENT
CLASS:PUBLIC
CATEGORIES:MEETING
DTSTART;TZID=America/New_York:20140903T200000
DTEND;TZID=America/New_York:20140903T200000
SUMMARY:Aaron L Myers II at Blues Alley
DESCRIPTION:Price: $20\nClick here to buy tickets: http://www.bluesalley.com/events.cfm\nAge Limit: All Ages\n\nDetails: At this show you will hear not only my arrangements of some classic jazz standards, but music from my upcoming album &quot;The Lions Den&quot;, which will include my response to Chick Corea&#39;s &quot;Spain&quot; called &quot;In Return&quot;.  You will also be able to purchase physical copies of my debut CD called &quot;Leo Rising&quot;.\n\n I will be playing two shows at the renowned &quot;Blues Alley&quot; in Washington DC Wednesday, September 3rd at 8pm &amp; 10pm.\n
LOCATION:Blues Alley - 1073 Wisconsin Ave. NW, Washington, DC, 20007, US
END:VEVENT

END:VCALENDAR
