BEGIN:VCALENDAR
VERSION:2.0
BEGIN:VEVENT
CLASS:PUBLIC
CATEGORIES:MEETING
DTSTART;TZID=Pacific/Auckland:20140809T200000
DTEND;TZID=Pacific/Auckland:20140809T200000
SUMMARY:Phreaze at 104 The Office
DESCRIPTION:Age Limit: All Ages\n\nDetails: THE BAYS UNDERGROUND: LIVE PERFORMANCES BY PHREAZE // CAMO CLIQUE DANCE CREW // LADY PATERA // MASSIKAR FT SLICK MOVEMENT // URBAN DRAMA // ARMS OF PLATINUM // JAY ROCK THE MIC // UNDERRATED // RAS1? // PHREAZE // 8% ... Tix $10.. more info comming soon!! www.facebook.com/mcphreaze 
LOCATION:104 The Office - 104 Devonport Road, Tauranga, NZ
END:VEVENT

END:VCALENDAR
