BEGIN:VCALENDAR
VERSION:2.0
BEGIN:VEVENT
CLASS:PUBLIC
CATEGORIES:MEETING
DTSTART;TZID=America/Chicago:20140717T160000
DTEND;TZID=America/Chicago:20140717T160000
SUMMARY:Psychopathic Daze at Club Mambo
DESCRIPTION:Price: $10.00\nClick here to buy tickets: http://psychopathicdaze.bigcartel.com/\nAge Limit: All Ages\n\nDetails: BATTLE FOR MAYHEM FEST\n\nLive Wire Lounge Chicago and Zombies Vs. Skeletons, in conjunction with Sumerian Records and Headbang For The Highway proudly present:\n\n The BATTLE FOR MAYHEM FEST 2014!\n\n This event will offer the opportunity for 10 local unsigned bands to showcase for A&amp;R reps from Sumerian Records, one of the hottest breakout record labels of the last decade! One lucky band will win a spot on Mayhem Fest. There will be other prizes as well from a variety of local and national sponsors.\n\n The battle will be presented by LiveWire Lounge Chicago and be held at Mambo Hall, which is just a few doors down from LiveWire. After party will be held at LiveWire, with a performance from Century Media recording artist Vattnet Viskar and a surprise celebrity DJ set by a top secret yet to be announced DJ.\n
LOCATION:Club Mambo - 3336 N Milwaukee Ave, Chicago, IL, 60641, US
END:VEVENT

END:VCALENDAR
