BEGIN:VCALENDAR
VERSION:2.0
BEGIN:VEVENT
CLASS:PUBLIC
CATEGORIES:MEETING
DTSTART;TZID=America/New_York:20140712T200000
DTEND;TZID=America/New_York:20140712T200000
SUMMARY:Psychopathic Daze at Backstage bar
DESCRIPTION:Age Limit: All Ages
LOCATION:Backstage bar - Elwood, IN, US
END:VEVENT

END:VCALENDAR
