BEGIN:VCALENDAR
VERSION:2.0
BEGIN:VEVENT
CLASS:PUBLIC
CATEGORIES:MEETING
DTSTART;TZID=Pacific/Auckland:20140726T220000
DTEND;TZID=Pacific/Auckland:20140726T220000
SUMMARY:Phreaze at Grind2Shine Showcase
DESCRIPTION:Price: 5.00\nAge Limit: All Ages\n\nDetails: 4elements n TonyBuxton present the Grind2Shine showcase!\n\nThis will be Phreaze&#39;s very FIRST performance in Wellington so you don&#39;t wanna miss it!!\n\nGrind2Shine is a fundraising event for the bro TonyBuxton - DOPE SPOT + DOPE HIPHOP ACTS = DOPE NIGHT!\n\n10pm-3am \n18+ ID etc\n$5 Entry
LOCATION:Grind2Shine Showcase - Lukes Lane, Wellington, NZ
END:VEVENT

END:VCALENDAR
