BEGIN:VCALENDAR
VERSION:2.0
BEGIN:VEVENT
CLASS:PUBLIC
CATEGORIES:MEETING
DTSTART;TZID=America/Chicago:20140726T200000
DTEND;TZID=America/Chicago:20140726T200000
SUMMARY:Psychopathic Daze at The Reptile Palace
DESCRIPTION:Age Limit: All Ages
LOCATION:The Reptile Palace - Oshkosh, WI, US
END:VEVENT

END:VCALENDAR
