BEGIN:VCALENDAR
VERSION:2.0
BEGIN:VEVENT
CLASS:PUBLIC
CATEGORIES:MEETING
DTSTART;TZID=Pacific/Auckland:20140627T200000
DTEND;TZID=Pacific/Auckland:20140627T200000
SUMMARY:Phreaze at Woodys Bar
DESCRIPTION:Age Limit: 18+\n\nDetails: Phreaze will be dropping her long-awaited Solo Album SUB ZERO DYNASTY on 27th June at Woodys Bar! Be There!!
LOCATION:Woodys Bar - Manurewa, Auckland, AKL, NZ
END:VEVENT

END:VCALENDAR
