BEGIN:VCALENDAR
VERSION:2.0
BEGIN:VEVENT
CLASS:PUBLIC
CATEGORIES:MEETING
DTSTART;TZID=America/New_York:20140607T213000
DTEND;TZID=America/New_York:20140607T213000
SUMMARY:VyntEdge Rock’n Blues Band at Molly Maguires at Black Point Inn
DESCRIPTION:Age Limit: 21+\n\nDetails: Heads Up ALL You PARTY People... VyntEdge will be ROCK&#39;n Molly Maguire&#39;s Gastropub Next Saturday &amp; we&#39;re look&#39;n for YOU!! \nGrab the gang and your dancing shoes and come out to the Most Happenin&#39; Place East of the Navesink for some WyLd &amp; KaRaaaZzY FuN!!! \nWe&#39;ll have Nick &amp; his crew behind the bar serving up $3.00 Miller Lite Bottles, $4.00 Jack &amp; Cokes, &amp; $3.00 Fireball Shots, and the kitchen will be open with delicious menu choices like their own &#39;Guaca-Molly&#39; made fresh upon Your Request! \nVyntEdge will handle the Soundtrack for your Pre-Summer Saturday night with some of the Best Classic \nRock ever written!!\nDon&#39;t miss the Party... see you at Molly&#39;s!!! \n\nhttp://www.mollymaguiresblackpointinn.com/ 
LOCATION:Molly Maguires at Black Point Inn - 132 E River Rd, Rumson, NJ, 07760, US
END:VEVENT

END:VCALENDAR
