BEGIN:VCALENDAR
VERSION:2.0
BEGIN:VEVENT
CLASS:PUBLIC
CATEGORIES:MEETING
DTSTART;TZID=America/New_York:20140614T120000
DTEND;TZID=America/New_York:20140614T120000
SUMMARY:The Uncle Devin Show® at National Childrens Museum - National Harbor
DESCRIPTION:Price: $10.00\nClick here to buy tickets: http://www.ccm.org/events\nAge Limit: All Ages\n\nDetails: We&#39;re back at the National Children&#39;s Museum - National Harbor for another wonderful show. We hope you can join us as we sing and dance together.  Admission gets you access to the entire museum and our show. 
LOCATION:National Childrens Museum - National Harbor - 151 St. George Boulevard, National Harbor, MD, 20745, US
END:VEVENT

END:VCALENDAR
