BEGIN:VCALENDAR
VERSION:2.0
BEGIN:VEVENT
CLASS:PUBLIC
CATEGORIES:MEETING
DTSTART;TZID=America/Chicago:20140503T200000
DTEND;TZID=America/Chicago:20140503T200000
SUMMARY:deadhorse at Fitzgerald's
DESCRIPTION:Price: $12\nAge Limit: 18+\n\nDetails: &quot;Welcome to Hell&quot; Fest.  
LOCATION:Fitzgerald's - 2706 White Oak, Houston, TX, 77007, US
END:VEVENT

END:VCALENDAR
